BEGIN:VCALENDAR
VERSION:2.0
PRODID:-//Evolution Veterinary Specialists - ECPv6.15.0//NONSGML v1.0//EN
CALSCALE:GREGORIAN
METHOD:PUBLISH
X-ORIGINAL-URL:https://evolutionvet.com
X-WR-CALDESC:Events for Evolution Veterinary Specialists
REFRESH-INTERVAL;VALUE=DURATION:PT1H
X-Robots-Tag:noindex
X-PUBLISHED-TTL:PT1H
BEGIN:VTIMEZONE
TZID:America/Denver
BEGIN:DAYLIGHT
TZOFFSETFROM:-0700
TZOFFSETTO:-0600
TZNAME:MDT
DTSTART:20210314T090000
END:DAYLIGHT
BEGIN:STANDARD
TZOFFSETFROM:-0600
TZOFFSETTO:-0700
TZNAME:MST
DTSTART:20211107T080000
END:STANDARD
BEGIN:DAYLIGHT
TZOFFSETFROM:-0700
TZOFFSETTO:-0600
TZNAME:MDT
DTSTART:20220313T090000
END:DAYLIGHT
BEGIN:STANDARD
TZOFFSETFROM:-0600
TZOFFSETTO:-0700
TZNAME:MST
DTSTART:20221106T080000
END:STANDARD
END:VTIMEZONE
BEGIN:VEVENT
DTSTART;TZID=America/Denver:20220414T080000
DTEND;TZID=America/Denver:20220414T180000
DTSTAMP:20260421T065823
CREATED:20220331T223136Z
LAST-MODIFIED:20220331T223136Z
UID:22792-1649923200-1649959200@evolutionvet.com
SUMMARY:Pet Photo DAY!
DESCRIPTION:Cassaundra will be taking adorable pet photos of employee pets!! Sign up from 8-6pm
URL:https://evolutionvet.com/event/pet-photo-day/
LOCATION:room 15
END:VEVENT
BEGIN:VEVENT
DTSTART;TZID=America/Denver:20211208T180000
DTEND;TZID=America/Denver:20211208T220000
DTSTAMP:20260421T065823
CREATED:20211102T205210Z
LAST-MODIFIED:20211102T205210Z
UID:16108-1638986400-1639000800@evolutionvet.com
SUMMARY:Holiday Dinner
DESCRIPTION:Join us for the Holiday Dinner!
URL:https://evolutionvet.com/event/holiday-dinner/
END:VEVENT
BEGIN:VEVENT
DTSTART;TZID=America/Denver:20211116T180000
DTEND;TZID=America/Denver:20211116T220000
DTSTAMP:20260421T065823
CREATED:20211102T182917Z
LAST-MODIFIED:20211102T182917Z
UID:16103-1637085600-1637100000@evolutionvet.com
SUMMARY:Paint & Cider
DESCRIPTION:Join us in painting the paisley cat with Cider!
URL:https://evolutionvet.com/event/paint-cider/
END:VEVENT
BEGIN:VEVENT
DTSTART;TZID=America/Denver:20211028T180000
DTEND;TZID=America/Denver:20211028T210000
DTSTAMP:20260421T065823
CREATED:20210921T154642Z
LAST-MODIFIED:20210921T154642Z
UID:14340-1635444000-1635454800@evolutionvet.com
SUMMARY:Board Game Night
DESCRIPTION:Let’s have some fun with Halloween Games!!! Cake is provided\, Julie is in charge of games! Bring drinks and snacks!
URL:https://evolutionvet.com/event/board-game-night/
END:VEVENT
BEGIN:VEVENT
DTSTART;TZID=America/Denver:20211027T090000
DTEND;TZID=America/Denver:20211027T103000
DTSTAMP:20260421T065823
CREATED:20201016T125400Z
LAST-MODIFIED:20210921T151531Z
UID:2034-1635325200-1635330600@evolutionvet.com
SUMMARY:Quarterly Staff Meeting
DESCRIPTION:In-person and on Zoom- Will not be recorded
URL:https://evolutionvet.com/event/quarterly-staff-meeting/
END:VEVENT
BEGIN:VEVENT
DTSTART;TZID=America/Denver:20211026T110000
DTEND;TZID=America/Denver:20211026T120000
DTSTAMP:20260421T065823
CREATED:20210921T154310Z
LAST-MODIFIED:20210921T154310Z
UID:14339-1635246000-1635249600@evolutionvet.com
SUMMARY:Follow-Up Meeting w/ Dr. Marie
DESCRIPTION:Please join us to follow up on how to prevent and manage burnout with Dr. Marie!
URL:https://evolutionvet.com/event/follow-up-meeting-w-dr-marie/
END:VEVENT
BEGIN:VEVENT
DTSTART;TZID=America/Denver:20211020T180000
DTEND;TZID=America/Denver:20211020T210000
DTSTAMP:20260421T065823
CREATED:20210921T155848Z
LAST-MODIFIED:20211004T211224Z
UID:14341-1634752800-1634763600@evolutionvet.com
SUMMARY:Top Golf!!
DESCRIPTION:Join us at the Thorton Top Golf to celebrate the techs by playing some golf and eating dinner! 2 drink tickets are provided. Please RSVP here or tell Catie: https://surveyhero.com/c/4qmrewgn
URL:https://evolutionvet.com/event/14341/
END:VEVENT
BEGIN:VEVENT
DTSTART;VALUE=DATE:20211018
DTEND;VALUE=DATE:20211023
DTSTAMP:20260421T065823
CREATED:20201012T030109Z
LAST-MODIFIED:20210921T150951Z
UID:1987-1634515200-1634947199@evolutionvet.com
SUMMARY:Technician Appreciation Week
DESCRIPTION:5 Themed Technician Appreciation Days!
URL:https://evolutionvet.com/event/technician-appreciation-week/
END:VEVENT
BEGIN:VEVENT
DTSTART;TZID=America/Denver:20211014T170000
DTEND;TZID=America/Denver:20211014T180000
DTSTAMP:20260421T065823
CREATED:20210921T154147Z
LAST-MODIFIED:20210921T154147Z
UID:14338-1634230800-1634234400@evolutionvet.com
SUMMARY:Dr. Geri's CE: Congestive Heart Failure
DESCRIPTION:The Full team Approach to Management of Congestive Heart Failure Patients for rDVMs and Employees on Zoom\, please sign up to join: https://surveyhero.com/c/4qmrewgn
URL:https://evolutionvet.com/event/dr-geris-ce-congestive-heart-failure/
END:VEVENT
BEGIN:VEVENT
DTSTART;TZID=America/Denver:20210929T120000
DTEND;TZID=America/Denver:20210929T130000
DTSTAMP:20260421T065823
CREATED:20210921T152208Z
LAST-MODIFIED:20210921T152208Z
UID:14336-1632916800-1632920400@evolutionvet.com
SUMMARY:Lunch & Learn w/ Wedgewood
DESCRIPTION:Ken & Luke will be teaching DVMs about compound laws and regulations of Colorado.
URL:https://evolutionvet.com/event/lunch-learn-w-wedgewood/
END:VEVENT
BEGIN:VEVENT
DTSTART;TZID=America/Denver:20210929T060000
DTEND;TZID=America/Denver:20210930T230000
DTSTAMP:20260421T065823
CREATED:20210921T152410Z
LAST-MODIFIED:20210921T152410Z
UID:14337-1632895200-1633042800@evolutionvet.com
SUMMARY:48 Hr Bake OFF
DESCRIPTION:Join us in baking or tasting fellow employee’s creations! Please vote for 3 dishes and 1 most creative named dish. Winners get prizes! Please Zulip Julie if you are interested in baking by the 27th!
URL:https://evolutionvet.com/event/48-hr-bake-off/
END:VEVENT
BEGIN:VEVENT
DTSTART;TZID=America/Denver:20210923T090000
DTEND;TZID=America/Denver:20210923T180000
DTSTAMP:20260421T065823
CREATED:20210921T151841Z
LAST-MODIFIED:20210921T151841Z
UID:14335-1632387600-1632420000@evolutionvet.com
SUMMARY:Insperity
DESCRIPTION:Please join us up in the conference room to complete your orientation with Insperity at either 9 am or 6pm.
URL:https://evolutionvet.com/event/insperity/
END:VEVENT
BEGIN:VEVENT
DTSTART;TZID=America/Denver:20210922T000000
DTEND;TZID=America/Denver:20210929T233000
DTSTAMP:20260421T065823
CREATED:20210921T151327Z
LAST-MODIFIED:20210921T151327Z
UID:14334-1632268800-1632958200@evolutionvet.com
SUMMARY:CSR Competition
DESCRIPTION:See how many Urgent Care appointments you can make in a week!! The winner gets a prize!!
URL:https://evolutionvet.com/event/csr-competition/
END:VEVENT
END:VCALENDAR